BEGIN:VCALENDAR
VERSION:2.0
PRODID:-//Squarespace Inc/Squarespace 6//v6//EN
BEGIN:VEVENT
UID:5952062d579fb3268f15bb21@squarespace.com
DTSTAMP:20170718T174957Z
DTSTART:20170725T223000Z
DTEND:20170727T070000Z
SUMMARY:Online Retailer
GEO:-33.873352;151.199112
LOCATION:International Convention Centre\, 14 Darling Drive\, Sydney\, NSW\
 , 2000\, Australia
END:VEVENT
END:VCALENDAR
