BEGIN:VCALENDAR
VERSION:2.0
PRODID:-//Squarespace Inc/Squarespace 6//v6//EN
BEGIN:VEVENT
UID:595204a82cba5e163e54b9aa@squarespace.com
DTSTAMP:20170628T112431Z
DTSTART:20170629T213000Z
DTEND:20170629T230000Z
SUMMARY:Breakfast Seminar with localz
GEO:-33.861548;151.207607
LOCATION:Sydney Four Seasons Hotel
END:VEVENT
END:VCALENDAR
