BEGIN:VCALENDAR
VERSION:2.0
PRODID:-//Squarespace Inc/Squarespace 6//v6//EN
BEGIN:VEVENT
UID:5a06e23b41920291504342a2@squarespace.com
DTSTAMP:20180222T013926Z
DTSTART:20180416T230000Z
DTEND:20180417T063000Z
SUMMARY:Are You Ready for Amazon?
GEO:-37.816893;144.960962
LOCATION:Cliftons Melbourne\, 400 Collins Street\, Melbourne\, VIC\, 3000\, 
 Australia
END:VEVENT
END:VCALENDAR
